{"text_format":"1","workbook":"xlsx","n_sheets":2,"sheets":["Sheet1","Sheet2"],"not_rendered":{"charts":0,"images":0,"macros":1,"external_links":0,"defined_names":1,"comments":0,"pivot_tables":0},"unopened":[],"bounds":{"document_bytes":16777216,"sheet_cells":100000,"rows_first":2000,"rows_last":500,"rows_between":2000,"halvings":0,"cell_chars":16384,"cell_head_chars":4096},"cells_cut":0,"cells_raw":0,"read":"whole","date_system":"1900"}

{"sheet":"Sheet1","index":0,"n_rows":21,"n_cols":19,"rows_kept":21,"cut":false,"hidden":false,"merged":[[1,1,2,9],[1,11,1,12],[1,14,2,15],[20,16,20,17],[4,14,4,15],[4,16,4,17],[4,2,4,3],[4,4,4,5],[4,6,4,7],[4,8,4,9],[4,12,4,13],[4,10,4,11]]}
[]
[null,"Daily  Diet  Chart",null,null,null,null,null,null,null,null,null,"2024-06-06",null,null,"Alex Saunders"]
[]
[null,{"$f":" COUNTA(B6:B20)","v":4}]
[null,"Food /Drink","Fat",null,"Fibre",null,"Saturated",null,"Carb",null,"Of Sugar",null,"Salt",null,"Protien",null,"Calories",null,"Per Unit"]
[null,"Tea  Milk",0,{"$f":"C6*S6","v":0},0.1,{"$f":"E6*S6","v":0.1},0,{"$f":"G6*S6","v":0},1,{"$f":"I6*S6","v":1},0,{"$f":"K6*S6","v":0},1.4999999999999999E-2,{"$f":"M6*S6","v":1.4999999999999999E-2},0.1,{"$f":"O6*S6","v":0.1},23,{"$f":"Q6*S6","v":23},1]
[null,"Kiwi  small 75g",0.1,{"$f":"C7*S7","v":0.1},2,{"$f":"E7*S7","v":2},0,{"$f":"G7*S7","v":0},0,{"$f":"I7*S7","v":0},8.1,8.1,0,{"$f":"M7*S7","v":0},1,{"$f":"O7*S7","v":1},50,50,1]
[null,"Tangerines",0.6,0.6,3.5,3.5,0.1,0.1,26,26,21,21,3.9,3.9,1.6,1.6,103,103,1]
[null,"Pepperoni",1.28,1.28,0.02,0.02,0.7,0.7,0.12,0.12,0.02,0.02,0.9,0.9,0.5,0.5,14,14,1]
[null,null,null,0,null,0,null,0,null,0,null,0,null,0,null,0,null,0]
[null,null,null,0,null,0,null,0,null,0,null,0,null,0,null,0,null,0]
[null,null,null,0,null,0,null,0,null,0,null,0,null,0,null,0,null,0]
[null,null,null,0,null,0,null,0,null,0,null,0,null,0,null,0,null,0]
[null,null,null,0,null,0,null,0,null,0,null,0,null,0,null,0,null,0]
[null,null,null,0,null,0,null,0,null,0,null,0,null,0,null,0,null,0]
[null,null,null,0,null,0,null,0,null,0,null,0,null,0,null,0,null,0]
[null,null,null,0,null,0,null,0,null,0,null,0,null,0,null,0,null,0]
[null,null,null,0,null,0,null,0,null,0,null,0,null,0,null,0,null,0]
[null,null,null,0,null,0,null,0,null,0,null,0,null,0,null,0,null,0]
[null,null,null,0,null,0,null,0,null,0,null,0,null,0,null,0,null,0]
[null,"Totals For Today",null,{"$f":"SUM(D6:D20)","v":1.98},null,{"$f":"SUM(F6:F20)","v":5.6199999999999992},null,{"$f":"SUM(H6:H20)","v":0.79999999999999993},null,{"$f":"SUM(J6:J20)","v":27.12},null,{"$f":"SUM(L6:L20)","v":29.12},null,{"$f":"SUM(N6:N20)","v":4.8150000000000004},null,{"$f":"SUM(P6:P20)","v":3.2},{"$f":"SUM(R6:R20)&\" \"","v":"190 "},null," < Total"]

{"sheet":"Sheet2","index":1,"n_rows":55,"n_cols":18,"rows_kept":55,"cut":false,"hidden":false,"merged":[[1,1,2,4],[1,8,2,10]]}
[]
[null,"Saved Foods Table"]
[]
[]
[null,"Food","Fat","Column1","Fib","Column2","Sat","Column3","Car","Column4","Sug","Column5","Salt","Column6","Pro","Column7","Cal"]
[null,"Aubergine",0.2,null,3,null,0,null,6,null,3.5,null,2,null,1,null,25,{"$f":"Q6*#REF!","v":{"$error":"#REF!"}}]
[null,"Avacardo small",1.7,null,0.8,null,0.4,null,6.7,null,5.8,null,2.1000000000000001E-2,null,1.3,null,46,{"$f":"Q7*#REF!","v":{"$error":"#REF!"}}]
[null,"Baby Pepper   X6",0,null,0.6,null,0,null,3.5,null,3.5,null,6.0000000000000001E-3,null,0.6,null,24,{"$f":"Q8*#REF!","v":{"$error":"#REF!"}}]
[null,"Boiled Courgette ",0.4,{"$f":"C9*#REF!","v":{"$error":"#REF!"}},0.9,{"$f":"E9*#REF!","v":{"$error":"#REF!"}},0,{"$f":"G9*#REF!","v":{"$error":"#REF!"}},1.8,{"$f":"I9*#REF!","v":{"$error":"#REF!"}},0,{"$f":"K9*#REF!","v":{"$error":"#REF!"}},0,{"$f":"M9*#REF!","v":{"$error":"#REF!"}},18,{"$f":"O9*#REF!","v":{"$error":"#REF!"}},18,{"$f":"Q9*#REF!","v":{"$error":"#REF!"}}]
[null,"Broccoli",0.3,null,2.4,null,0,null,6.3,null,0,null,3.5999999999999997E-2,null,2.6,null,31]
[null,"Butternut Squash",0,null,2.4,null,0,null,12,null,2.4,null,0,null,1.2,null,53]
[null,"Cauliflower",0.5,null,2.2999999999999998,null,0.1,null,4.0999999999999996,null,1.8,null,0.24,null,1.9,null,23]
[null,"Cherries   X1",0,null,0.2,null,0,null,1.6,null,1.3,null,0,null,0.1,null,6.3]
[null,"Chicken Dipper   X5",12,null,0.9,null,1.3,null,20,null,0.6,null,0.84,null,11,null,234]
[null,"Chicken Thigh",12,null,0,null,3.1,null,0.1,null,0.1,null,0.26800000000000002,null,18,null,181]
[null,"Chips   50g",1.5,null,0.6,null,0,null,11,null,0.6,null,0.124,null,1.2,null,60]
[null,"Cran & Rasp Juice",0.2,{"$f":"C17*#REF!","v":{"$error":"#REF!"}},0.1,{"$f":"E17*#REF!","v":{"$error":"#REF!"}},0.05,{"$f":"G17*#REF!","v":{"$error":"#REF!"}},0.9,{"$f":"I17*#REF!","v":{"$error":"#REF!"}},0.9,{"$f":"K17*#REF!","v":{"$error":"#REF!"}},0.01,{"$f":"M17*#REF!","v":{"$error":"#REF!"}},0.1,{"$f":"O17*#REF!","v":{"$error":"#REF!"}},7]
[null,"Dairylea Cheese",14,null,2.6,null,9,null,8.6999999999999993,null,6.8,null,1.2,null,15,null,46]
[null,"Fig   30g",0,null,3.8,null,0,null,22,null,16,null,0,null,0.8,null,90]
[null,"Grapes   X8",0.1,null,0.5,null,0,null,9.1,null,0.7,null,0,null,0.4,null,35]
[null,"Kiwi  small 75g",0.1,null,2,null,0,null,0,null,8.1,null,0,null,1,null,50]
[null,"Lemonade",0,null,0,null,0,null,2.4,null,6,null,0.03,null,0,null,118]
[null,"Mackerel",13.9,null,0,null,5,null,0,null,0,null,0.09,null,19,null,262]
[null,"Magnum   X1",14,null,0,null,9.8000000000000007,null,23,null,20,null,0.09,null,2.5,null,231]
[null,"Mango   650g",1.3,null,5.6,null,0.3,null,52,null,48,null,3.5,null,2.9,null,210]
[null,"Melon Slice H.D",1,null,0.6,null,0,null,6.4,null,5.7,null,1.2999999999999999E-2,null,0.4,null,70]
[null,"Mushrooms",0.3,null,1,null,0.1,null,3.3,null,2,null,5,null,3.1,null,22]
[null,"Necterine",1,null,2.1,null,0,null,13,null,11,null,1.7999999999999999E-2,null,1.5,null,55]
[null,"Pepperoni",1.28,{"$f":"C29*#REF!","v":{"$error":"#REF!"}},0.02,{"$f":"E29*#REF!","v":{"$error":"#REF!"}},0.7,{"$f":"G29*#REF!","v":{"$error":"#REF!"}},0.12,{"$f":"I29*#REF!","v":{"$error":"#REF!"}},0.02,{"$f":"K29*#REF!","v":{"$error":"#REF!"}},0.9,{"$f":"M29*#REF!","v":{"$error":"#REF!"}},0.5,{"$f":"O29*#REF!","v":{"$error":"#REF!"}},14]
[null,"Plaice",10.8,{"$f":"C30*#REF!","v":{"$error":"#REF!"}},16,{"$f":"E30*#REF!","v":{"$error":"#REF!"}},1,{"$f":"G30*#REF!","v":{"$error":"#REF!"}},20,{"$f":"I30*#REF!","v":{"$error":"#REF!"}},0.7,{"$f":"K30*#REF!","v":{"$error":"#REF!"}},0.7,{"$f":"M30*#REF!","v":{"$error":"#REF!"}},14,{"$f":"O30*#REF!","v":{"$error":"#REF!"}},240]
[null,"Plum  small  35g",0.1,null,0.5,null,0,null,4,null,3.5,null,0,null,0.2,null,16]
[null,"Roll   X1",2.7,null,1.8,null,0.7,null,35,null,1.8,null,0.73,null,6.2,null,192]
[null,"Scampi",12,null,0.1,null,1.9,null,1.8,null,0.1,null,0.01,null,20,null,198]
[null,"Sea Food Mix",0.9,null,0,null,0.9,null,2.2000000000000002,null,0,null,0.312,null,16,null,89]
[null,"Squid",2.8,null,0,null,0.7,null,6.1,null,0,null,0.42699999999999999,null,31,null,183]
[null,"Squid Rings",1,null,0,null,0,null,0,null,0,null,0,null,11,null,80]
[null,"Stake Burger   X1",19.2,null,0.5,null,9.5,null,2,null,0.5,null,1.07,null,24,null,276]
[null,"Tangerines",0.6,null,3.5,null,0.1,null,26,null,21,null,3.9,null,1.6,null,103]
[null,"Tea  Milk",0,0.2,0.1,{"$f":"E39*#REF!","v":{"$error":"#REF!"}},0,{"$f":"G39*#REF!","v":{"$error":"#REF!"}},1,{"$f":"I39*#REF!","v":{"$error":"#REF!"}},0,{"$f":"K39*#REF!","v":{"$error":"#REF!"}},1.4999999999999999E-2,{"$f":"M39*#REF!","v":{"$error":"#REF!"}},0.1,{"$f":"O39*#REF!","v":{"$error":"#REF!"}},23]
[null,"Yougut   X .5",5.2,null,0.5,null,3.84,null,29,null,29,null,0.5,null,8.5,null,216]
[]
[]
[]
[]
[]
[]
[]
[]
[]
[]
[]
[]
[]
[]
[null,null,null,{"$f":"C55*#REF!","v":{"$error":"#REF!"}},null,{"$f":"E55*#REF!","v":{"$error":"#REF!"}},null,{"$f":"G55*#REF!","v":{"$error":"#REF!"}},null,{"$f":"I55*#REF!","v":{"$error":"#REF!"}},null,{"$f":"K55*#REF!","v":{"$error":"#REF!"}},null,{"$f":"M55*#REF!","v":{"$error":"#REF!"}},null,{"$f":"O55*#REF!","v":{"$error":"#REF!"}},null,{"$f":"Q55*#REF!","v":{"$error":"#REF!"}}]